View In:
ArcGIS JavaScript
ArcGIS Online Map Viewer
ArcGIS Earth
Service Description: The USGS NAIP Imagery service from The National Map (TNM) consists of high resolution aerial images that combine the visual attributes of an aerial photograph with the spatial accuracy and reliability of a map. The USGS NAIP Imagery service is a mosaic primarily of 0.6 meter resolution 4-band imagery presented in natural color. This service also supports the use of templates that can be used to dynamically generate 'false color', also known as color-infrared (CIR), and Normalized Difference Vegetation Index (NDVI) views of the data. USGS relies on a partnership with the U.S. Department of Agriculture’s Farm Service Agency for NAIP data. The National Map Downloader application allows free downloads of public domain, NAIP compressed orthoimagery in JPEG 2000 (.jp2) format for the conterminous United States.
Name: USGSNAIPImagery
Description: The USGS NAIP Imagery service from The National Map (TNM) consists of high resolution aerial images that combine the visual attributes of an aerial photograph with the spatial accuracy and reliability of a map. The USGS NAIP Imagery service is a mosaic primarily of 0.6 meter resolution 4-band imagery presented in natural color. This service also supports the use of templates that can be used to dynamically generate 'false color', also known as color-infrared (CIR), and Normalized Difference Vegetation Index (NDVI) views of the data. USGS relies on a partnership with the U.S. Department of Agriculture’s Farm Service Agency for NAIP data. The National Map Downloader application allows free downloads of public domain, NAIP compressed orthoimagery in JPEG 2000 (.jp2) format for the conterminous United States.
Single Fused Map Cache: false
Extent:
XMin: -1.3896162899973024E7
YMin: 2812730.7000011485
XMax: -7441890.599985033
YMax: 6372359.699994525
Spatial Reference: 102100
(3857)
LatestVCSWkid(0)
Initial Extent:
XMin: -1.3896162899973024E7
YMin: 2812730.7000011485
XMax: -7441890.599985033
YMax: 6372359.699994525
Spatial Reference: 102100
(3857)
LatestVCSWkid(0)
Full Extent:
XMin: -1.3896162899973024E7
YMin: 2812730.7000011485
XMax: -7441890.599985033
YMax: 6372359.699994525
Spatial Reference: 102100
(3857)
LatestVCSWkid(0)
Pixel Size X: 0.29999999999944177
Pixel Size Y: 0.29999999999944177
Band Count: 4
Pixel Type: U8
RasterFunction Infos: {"rasterFunctionInfos": [
{
"name": "NaturalColor",
"description": "Natural Color bands red, green, blue (1, 2, 3) displayed with fixed stretch.",
"help": ""
},
{
"name": "FalseColorComposite",
"description": "Bands near-infrared, red, green (4, 1, 2) displayed with fixed stretch.",
"help": ""
},
{
"name": "NDVI_Color",
"description": "Normalized difference vegetation index (NDVI) with color map. Dark green is thick vigorous vegetation and brown represents sparse vegetation.",
"help": ""
},
{
"name": "None",
"description": "Make a Raster or Raster Dataset into a Function Raster Dataset.",
"help": ""
}
]}
Mensuration Capabilities: Basic
Inspection Capabilities:
Has Histograms: false
Has Colormap: false
Has Multi Dimensions : false
Rendering Rule:
Min Scale: 0
Max Scale: 0
Copyright Text: USGS, USDA, The National Map: Orthoimagery. January 09, 2025.
Service Data Type: esriImageServiceDataTypeProcessed
Min Values: N/A
Max Values: N/A
Mean Values: N/A
Standard Deviation Values: N/A
Object ID Field: OBJECTID
Fields:
-
OBJECTID
(
type: esriFieldTypeOID, alias: OBJECTID
)
-
Shape
(
type: esriFieldTypeGeometry, alias: Shape
)
-
Name
(
type: esriFieldTypeString, alias: Name, length: 200
)
-
MinPS
(
type: esriFieldTypeDouble, alias: MinPS
)
-
MaxPS
(
type: esriFieldTypeDouble, alias: MaxPS
)
-
Category
(
type: esriFieldTypeInteger, alias: Category
, Coded Values:
[0: Unknown]
, [1: Primary]
, [2: Overview]
, ...6 more...
)
-
CenterX
(
type: esriFieldTypeDouble, alias: CenterX
)
-
CenterY
(
type: esriFieldTypeDouble, alias: CenterY
)
-
State
(
type: esriFieldTypeString, alias: State, length: 2
)
-
Year
(
type: esriFieldTypeSmallInteger, alias: Year
)
-
raster_name
(
type: esriFieldTypeString, alias: raster_name, length: 256
)
-
download_url
(
type: esriFieldTypeString, alias: download_url, length: 256
)
-
acquisition_date
(
type: esriFieldTypeDate, alias: acquisition_date, length: 8
)
-
agency
(
type: esriFieldTypeString, alias: agency, length: 16
)
-
vendor
(
type: esriFieldTypeString, alias: vendor, length: 16
)
-
resolution_value
(
type: esriFieldTypeDouble, alias: resolution_value
)
-
resolution_units
(
type: esriFieldTypeString, alias: resolution_units, length: 5
)
-
band_count
(
type: esriFieldTypeInteger, alias: band_count
)
-
sensor_type
(
type: esriFieldTypeString, alias: sensor_type, length: 4
)
-
projection_name
(
type: esriFieldTypeString, alias: projection_name, length: 64
)
-
projection_zone
(
type: esriFieldTypeString, alias: projection_zone, length: 8
)
-
datum
(
type: esriFieldTypeString, alias: datum, length: 8
)
Default Mosaic Method: ByAttribute
Allowed Mosaic Methods: ByAttribute,Center,LockRaster
SortField: Year
SortValue: 3000
Mosaic Operator: First
Default Compression Quality: 90
Default Resampling Method: Nearest
Max Record Count: 50
Max Image Height: 4000
Max Image Width: 4000
Max Download Image Count: 0
Max Mosaic Image Count: 50
Allow Raster Function: true
Allow Copy: true
Allow Analysis: true
Allow Compute TiePoints: false
Supports Statistics: true
Supports Advanced Queries: true
Use StandardizedQueries: true
Raster Type Infos:
Name: Raster Dataset
Description: Supports all ArcGIS Raster Datasets
Help:
Has Raster Attribute Table: false
Edit Fields Info: null
Ownership Based AccessControl For Rasters: null
Child Resources:
Info
Statistics
Key Properties
Legend
Raster Function Infos
Supported Operations:
Export Image
Query
Identify
Measure
Compute Histograms
Compute Statistics Histograms
Get Samples
Compute Class Statistics
Query GPS Info
Find Images
Image to Map
Map to Image
Measure from Image
Image to Map Multiray
Query Boundary
Compute Pixel Location
Compute Angles
Validate
Project