{
 "currentVersion": 11.3,
 "serviceDescription": "The USGS NAIP Plus service from The National Map consists of National Agriculture Imagery Program (NAIP) and high resolution orthoimagery (HRO) that combine the visual attributes of an aerial photograph with the spatial accuracy and reliability of a map. Digital orthoimage resolution may vary from 6 inches to 1 meter. In the former resolution, every pixel in an orthoimage covers a six inch square of the earth\u2019s surface, while in the latter resolution, each pixel represents a one meter square. Many states contribute orthoimagery to The National Map, and the USGS also relies on a partnership with the U.S. Department of Agriculture's Farm Service Agency. The National Map download client allows free downloads of public domain, 1-meter resolution orthoimagery in JPEG 2000 (jp2) format for the conterminous United States, with many urban areas and other locations at 1-foot (or better) resolution also in JPEG 2000 (jp2) format. For additional information on orthoimagery, go to https://nationalmap.gov/ortho.html . crdate-20250311",
 "name": "USGSNAIPPlus",
 "description": "The USGS NAIP Plus service from The National Map consists of National Agriculture Imagery Program (NAIP) and high resolution orthoimagery (HRO) that combine the visual attributes of an aerial photograph with the spatial accuracy and reliability of a map. Digital orthoimage resolution may vary from 6 inches to 1 meter. In the former resolution, every pixel in an orthoimage covers a six inch square of the earth\u2019s surface, while in the latter resolution, each pixel represents a one meter square. Many states contribute orthoimagery to The National Map, and the USGS also relies on a partnership with the U.S. Department of Agriculture's Farm Service Agency. The National Map download client allows free downloads of public domain, 1-meter resolution orthoimagery in JPEG 2000 (jp2) format for the conterminous United States, with many urban areas and other locations at 1-foot (or better) resolution also in JPEG 2000 (jp2) format. For additional information on orthoimagery, go to https://nationalmap.gov/ortho.html . crdate-20250311",
 "extent": {
  "xmin": -1.9959270299167845E7,
  "ymin": -1646499.8997945245,
  "xmax": 2.0018099399214137E7,
  "ymax": 1.1574978599670358E7,
  "spatialReference": {
   "wkid": 102100,
   "latestWkid": 3857
  }
 },
 "initialExtent": {
  "xmin": -1.9959270299167845E7,
  "ymin": -1646499.8997945245,
  "xmax": 2.0018099399214137E7,
  "ymax": 1.1574978599670358E7,
  "spatialReference": {
   "wkid": 102100,
   "latestWkid": 3857
  }
 },
 "fullExtent": {
  "xmin": -1.9959270299167845E7,
  "ymin": -1646499.8997945245,
  "xmax": 2.0018099399214137E7,
  "ymax": 1.1574978599670358E7,
  "spatialReference": {
   "wkid": 102100,
   "latestWkid": 3857
  }
 },
 "sortableFields": "",
 "bandCount": 4,
 "pixelType": "U8",
 "minValues": [],
 "maxValues": [],
 "meanValues": [],
 "stdvValues": [],
 "hasMultidimensions": false,
 "pixelSizeX": 0.299999999987858,
 "pixelSizeY": 0.299999999987858,
 "meanPixelSize": 0.299999999987858,
 "datasetFormat": "AMD",
 "uncompressedSize": 23491552621115620,
 "blockWidth": 2048,
 "blockHeight": 256,
 "compressionType": "None",
 "bandNames": [
  "Band_1",
  "Band_2",
  "Band_3",
  "Band_4"
 ],
 "allowCopy": true,
 "allowAnalysis": true,
 "itemAccess": false,
 "inspectionCapabilities": "",
 "minPixelSize": 0,
 "maxPixelSize": 0,
 "copyrightText": "USGS, USDA, The National Map: Orthoimagery. March 12, 2025.",
 "serviceDataType": "esriImageServiceDataTypeProcessed",
 "serviceSourceType": "esriImageServiceSourceTypeMosaicDataset",
 "objectIdField": "OBJECTID",
 "fields": [
  {
   "name": "OBJECTID",
   "type": "esriFieldTypeOID",
   "alias": "OBJECTID",
   "domain": null
  },
  {
   "name": "Shape",
   "type": "esriFieldTypeGeometry",
   "alias": "Shape",
   "domain": null
  },
  {
   "name": "Name",
   "type": "esriFieldTypeString",
   "alias": "Name",
   "domain": null,
   "length": 200
  },
  {
   "name": "MinPS",
   "type": "esriFieldTypeDouble",
   "alias": "MinPS",
   "domain": null
  },
  {
   "name": "MaxPS",
   "type": "esriFieldTypeDouble",
   "alias": "MaxPS",
   "domain": null
  },
  {
   "name": "Category",
   "type": "esriFieldTypeInteger",
   "alias": "Category",
   "domain": {
    "type": "codedValue",
    "name": "MosaicCatalogItemCategoryDomain",
    "description": "Catalog item categories.",
    "codedValues": [
     {
      "name": "Unknown",
      "code": 0
     },
     {
      "name": "Primary",
      "code": 1
     },
     {
      "name": "Overview",
      "code": 2
     },
     {
      "name": "Unprocessed Overview",
      "code": 3
     },
     {
      "name": "Partial Overview",
      "code": 4
     },
     {
      "name": "Inactive",
      "code": 5
     },
     {
      "name": "Uploaded",
      "code": 253
     },
     {
      "name": "Incomplete",
      "code": 254
     },
     {
      "name": "Custom",
      "code": 255
     }
    ],
    "mergePolicy": "esriMPTDefaultValue",
    "splitPolicy": "esriSPTDefaultValue"
   }
  },
  {
   "name": "CenterX",
   "type": "esriFieldTypeDouble",
   "alias": "CenterX",
   "domain": null
  },
  {
   "name": "CenterY",
   "type": "esriFieldTypeDouble",
   "alias": "CenterY",
   "domain": null
  },
  {
   "name": "State",
   "type": "esriFieldTypeString",
   "alias": "State",
   "domain": null,
   "length": 2
  },
  {
   "name": "Year",
   "type": "esriFieldTypeSmallInteger",
   "alias": "Year",
   "domain": null
  },
  {
   "name": "raster_name",
   "type": "esriFieldTypeString",
   "alias": "raster_name",
   "domain": null,
   "length": 256
  },
  {
   "name": "download_url",
   "type": "esriFieldTypeString",
   "alias": "download_url",
   "domain": null,
   "length": 256
  },
  {
   "name": "acquisition_date",
   "type": "esriFieldTypeDate",
   "alias": "acquisition_date",
   "domain": null,
   "length": 8
  },
  {
   "name": "agency",
   "type": "esriFieldTypeString",
   "alias": "agency",
   "domain": null,
   "length": 16
  },
  {
   "name": "vendor",
   "type": "esriFieldTypeString",
   "alias": "vendor",
   "domain": null,
   "length": 16
  },
  {
   "name": "resolution_value",
   "type": "esriFieldTypeDouble",
   "alias": "resolution_value",
   "domain": null
  },
  {
   "name": "resolution_units",
   "type": "esriFieldTypeString",
   "alias": "resolution_units",
   "domain": null,
   "length": 5
  },
  {
   "name": "band_count",
   "type": "esriFieldTypeInteger",
   "alias": "band_count",
   "domain": null
  },
  {
   "name": "sensor_type",
   "type": "esriFieldTypeString",
   "alias": "sensor_type",
   "domain": null,
   "length": 4
  },
  {
   "name": "projection_name",
   "type": "esriFieldTypeString",
   "alias": "projection_name",
   "domain": null,
   "length": 64
  },
  {
   "name": "projection_zone",
   "type": "esriFieldTypeString",
   "alias": "projection_zone",
   "domain": null,
   "length": 8
  },
  {
   "name": "datum",
   "type": "esriFieldTypeString",
   "alias": "datum",
   "domain": null,
   "length": 8
  }
 ],
 "capabilities": "Image,Metadata,Catalog,Mensuration",
 "defaultMosaicMethod": "ByAttribute",
 "allowedMosaicMethods": "ByAttribute,Center,LockRaster",
 "sortField": "Year",
 "sortValue": "3000",
 "sortAscending": true,
 "mosaicOperator": "First",
 "maxDownloadSizeLimit": 2048,
 "defaultCompressionQuality": 90,
 "defaultResamplingMethod": "Nearest",
 "maxImageHeight": 4000,
 "maxImageWidth": 4000,
 "maxRecordCount": 50,
 "maxDownloadImageCount": 0,
 "maxMosaicImageCount": 50,
 "allowRasterFunction": true,
 "rasterFunctionInfos": [
  {
   "name": "NaturalColor",
   "description": "Natural Color bands red, green, blue (1, 2, 3) displayed with fixed stretch.",
   "help": ""
  },
  {
   "name": "FalseColorComposite",
   "description": "Bands near-infrared, red, green (4, 1, 2) displayed with fixed stretch.",
   "help": ""
  },
  {
   "name": "NDVI_Color",
   "description": "Normalized difference vegetation index (NDVI) with color map. Dark green is thick vigorous vegetation and brown represents sparse vegetation.",
   "help": ""
  },
  {
   "name": "None",
   "description": "Make a Raster or Raster Dataset into a Function Raster Dataset.",
   "help": ""
  }
 ],
 "rasterTypeInfos": [
  {
   "name": "Raster Dataset",
   "description": "Supports all ArcGIS Raster Datasets",
   "help": ""
  }
 ],
 "mensurationCapabilities": "Basic",
 "hasHistograms": false,
 "hasColormap": false,
 "hasRasterAttributeTable": false,
 "minScale": 0,
 "maxScale": 0,
 "exportTilesAllowed": false,
 "supportsStatistics": true,
 "supportsAdvancedQueries": true,
 "editFieldsInfo": null,
 "ownershipBasedAccessControlForRasters": null,
 "allowComputeTiePoints": false,
 "useStandardizedQueries": true,
 "advancedQueryCapabilities": {
  "useStandardizedQueries": true,
  "supportsStatistics": true,
  "supportsOrderBy": true,
  "supportsDistinct": true,
  "supportsPagination": true
 },
 "spatialReference": {
  "wkid": 102100,
  "latestWkid": 3857
 }
}
